BEGIN:VCALENDAR
VERSION:2.0
PRODID:-//JHWS-rBFZ-Mitte-Nord - ECPv6.7.1//NONSGML v1.0//EN
CALSCALE:GREGORIAN
METHOD:PUBLISH
X-ORIGINAL-URL:https://jhws-rbfz-mitte-nord.de
X-WR-CALDESC:Veranstaltungen für JHWS-rBFZ-Mitte-Nord
REFRESH-INTERVAL;VALUE=DURATION:PT1H
X-Robots-Tag:noindex
X-PUBLISHED-TTL:PT1H
BEGIN:VTIMEZONE
TZID:Europe/Berlin
BEGIN:DAYLIGHT
TZOFFSETFROM:+0100
TZOFFSETTO:+0200
TZNAME:CEST
DTSTART:20260329T010000
END:DAYLIGHT
BEGIN:STANDARD
TZOFFSETFROM:+0200
TZOFFSETTO:+0100
TZNAME:CET
DTSTART:20261025T010000
END:STANDARD
END:VTIMEZONE
BEGIN:VEVENT
DTSTART;VALUE=DATE:20260201
DTEND;VALUE=DATE:20260202
DTSTAMP:20260423T164745
CREATED:20250912T114108Z
LAST-MODIFIED:20250912T114108Z
UID:7046-1769904000-1769990399@jhws-rbfz-mitte-nord.de
SUMMARY:Abgabe der Stellungnahmen im Übergang
DESCRIPTION:Formular A2 (Aufhebung/Übergang) oder Formular A1 (Neufeststellung im Übergang)
URL:https://jhws-rbfz-mitte-nord.de/veranstaltung/abgabe-der-stellungnahmen-im-uebergang/
CATEGORIES:rBFZ Mitte-Nord
END:VEVENT
END:VCALENDAR