BEGIN:VCALENDAR
VERSION:2.0
PRODID:-//JHWS-rBFZ-Mitte-Nord - ECPv6.7.1//NONSGML v1.0//EN
CALSCALE:GREGORIAN
METHOD:PUBLISH
X-ORIGINAL-URL:https://jhws-rbfz-mitte-nord.de
X-WR-CALDESC:Veranstaltungen für JHWS-rBFZ-Mitte-Nord
REFRESH-INTERVAL;VALUE=DURATION:PT1H
X-Robots-Tag:noindex
X-PUBLISHED-TTL:PT1H
BEGIN:VTIMEZONE
TZID:Europe/Berlin
BEGIN:DAYLIGHT
TZOFFSETFROM:+0100
TZOFFSETTO:+0200
TZNAME:CEST
DTSTART:20250330T010000
END:DAYLIGHT
BEGIN:STANDARD
TZOFFSETFROM:+0200
TZOFFSETTO:+0100
TZNAME:CET
DTSTART:20251026T010000
END:STANDARD
BEGIN:DAYLIGHT
TZOFFSETFROM:+0100
TZOFFSETTO:+0200
TZNAME:CEST
DTSTART:20260329T010000
END:DAYLIGHT
BEGIN:STANDARD
TZOFFSETFROM:+0200
TZOFFSETTO:+0100
TZNAME:CET
DTSTART:20261025T010000
END:STANDARD
END:VTIMEZONE
BEGIN:VEVENT
DTSTART;TZID=Europe/Berlin:20251211T123000
DTEND;TZID=Europe/Berlin:20251211T150000
DTSTAMP:20260423T134927
CREATED:20250912T112541Z
LAST-MODIFIED:20250912T113032Z
UID:7031-1765456200-1765465200@jhws-rbfz-mitte-nord.de
SUMMARY:rBFZ-Sitzung
DESCRIPTION:In einem Einzeltermin können Sie Ihre Fragen vom Leitungsteam beantworten lassen. Bei Interesse können Sie einen Termin mit Frau Franke vereinbaren.
URL:https://jhws-rbfz-mitte-nord.de/veranstaltung/rbfz-sitzung-13/
CATEGORIES:rBFZ Mitte-Nord
END:VEVENT
BEGIN:VEVENT
DTSTART;VALUE=DATE:20251222
DTEND;VALUE=DATE:20260111
DTSTAMP:20260423T134927
CREATED:20250912T121033Z
LAST-MODIFIED:20250912T121033Z
UID:7059-1766361600-1768089599@jhws-rbfz-mitte-nord.de
SUMMARY:Weihnachtsferien
DESCRIPTION:
URL:https://jhws-rbfz-mitte-nord.de/veranstaltung/weihnachtsferien-2/
CATEGORIES:Johann-Hinrich-Wichern-Schule Frankfurt,rBFZ Mitte-Nord
END:VEVENT
END:VCALENDAR